BEGIN:VCALENDAR
VERSION:2.0
PRODID:-//Tukios.com/
BEGIN:VEVENT
UID:8062f868-3b18-4f06-b1ec-1f0cb1947011@www.decluefuneralhome.com
DTSTAMP:20260423T083756Z
DTSTART:20260421
SUMMARY:Burial
DESCRIPTION:
URL:https://www.decluefuneralhome.com/obituaries/mark-rulo
LOCATION: Co Rd 155  Mineral Point MO 63660
GEO:37.9055045;-90.7255076
END:VEVENT
END:VCALENDAR