BEGIN:VCALENDAR
VERSION:2.0
PRODID:-//Tukios.com/
BEGIN:VEVENT
UID:e40c1932-2fcc-4edd-9a19-ccf6cc80e36b@www.decluefuneralhome.com
DTSTAMP:20260423T082923Z
DTSTART:20260421T180000Z
DTEND:20260421T190000Z
SUMMARY:Funeral Service
DESCRIPTION:
URL:https://www.decluefuneralhome.com/obituaries/mark-rulo
LOCATION: 301 E High Street  Potosi MO 63664
GEO:37.9340118;-90.784549
END:VEVENT
END:VCALENDAR