BEGIN:VCALENDAR
VERSION:2.0
PRODID:-//Tukios.com/
BEGIN:VEVENT
UID:cd50a9b5-9f90-45ba-86c0-3716c3b04e7a@www.decluefuneralhome.com
DTSTAMP:20260423T083333Z
DTSTART:20260421T153000Z
DTEND:20260421T180000Z
SUMMARY:Visitation
DESCRIPTION:
URL:https://www.decluefuneralhome.com/obituaries/mark-rulo
LOCATION: 301 E High Street  Potosi MO 63664
GEO:37.9340118;-90.784549
END:VEVENT
END:VCALENDAR