BEGIN:VCALENDAR
VERSION:2.0
PRODID:-//Tukios.com/
BEGIN:VEVENT
UID:7175917a-a0a9-48d5-b814-92d4433cf6f7@www.decluefuneralhome.com
DTSTAMP:20260422T031709Z
DTSTART:20260424
SUMMARY:Burial
DESCRIPTION:
URL:https://www.decluefuneralhome.com/obituaries/joann-skaggs
LOCATION: 10129 Manders Rd  Potosi MO 63664
GEO:37.9239306;-90.781145
END:VEVENT
END:VCALENDAR