BEGIN:VCALENDAR
VERSION:2.0
PRODID:-//Tukios.com/
BEGIN:VEVENT
UID:9f260ed3-6bf0-43f9-b789-b6ac46e537ab@www.decluefuneralhome.com
DTSTAMP:20260422T031626Z
DTSTART:20260424T160000Z
DTEND:20260424T170000Z
SUMMARY:Funeral Service
DESCRIPTION:
URL:https://www.decluefuneralhome.com/obituaries/joann-skaggs
LOCATION:DeClue Funeral Home 301 East High Street  Potosi MO 63664
GEO:37.9340118;-90.784549
END:VEVENT
END:VCALENDAR