BEGIN:VCALENDAR
VERSION:2.0
PRODID:-//Tukios.com/
BEGIN:VEVENT
UID:0f14edb8-0c05-4c46-bbc7-f1295aee9366@www.decluefuneralhome.com
DTSTAMP:20260422T031915Z
DTSTART:20260424T140000Z
DTEND:20260424T160000Z
SUMMARY:Visitation
DESCRIPTION:
URL:https://www.decluefuneralhome.com/obituaries/joann-skaggs
LOCATION:DeClue Funeral Home 301 East High Street  Potosi MO 63664
GEO:37.9340118;-90.784549
END:VEVENT
END:VCALENDAR