BEGIN:VCALENDAR
VERSION:2.0
PRODID:-//Tukios.com/
BEGIN:VEVENT
UID:b0493608-aaf6-401d-90f2-4875a3d8039c@www.decluefuneralhome.com
DTSTAMP:20260422T031315Z
DTSTART:20260423T220000Z
DTEND:20260424T010000Z
SUMMARY:Visitation
DESCRIPTION:
URL:https://www.decluefuneralhome.com/obituaries/joann-skaggs
LOCATION:DeClue Funeral Home 301 East High Street  Potosi MO 63664
GEO:37.9340118;-90.784549
END:VEVENT
END:VCALENDAR