BEGIN:VCALENDAR
VERSION:2.0
PRODID:-//Tukios.com/
BEGIN:VEVENT
UID:967fabda-415c-4aa9-b714-feedcdec51f7@www.decluefuneralhome.com
DTSTAMP:20260423T042046Z
DTSTART:20260424T230000Z
DTEND:20260425T000000Z
SUMMARY:Funeral Service
DESCRIPTION:
URL:https://www.decluefuneralhome.com/obituaries/dennis-emily
LOCATION: 301 E High Street  Potosi MO 63664
GEO:37.9340118;-90.784549
END:VEVENT
END:VCALENDAR